BEGIN:VCALENDAR
VERSION:2.0
PRODID:-//Mustila Viini - ECPv6.15.17.1//NONSGML v1.0//EN
CALSCALE:GREGORIAN
METHOD:PUBLISH
X-ORIGINAL-URL:https://mustilaviini.fi
X-WR-CALDESC:Tapahtumat Mustila Viini
REFRESH-INTERVAL;VALUE=DURATION:PT1H
X-Robots-Tag:noindex
X-PUBLISHED-TTL:PT1H
BEGIN:VTIMEZONE
TZID:Europe/Helsinki
BEGIN:DAYLIGHT
TZOFFSETFROM:+0200
TZOFFSETTO:+0300
TZNAME:EEST
DTSTART:20230326T010000
END:DAYLIGHT
BEGIN:STANDARD
TZOFFSETFROM:+0300
TZOFFSETTO:+0200
TZNAME:EET
DTSTART:20231029T010000
END:STANDARD
BEGIN:DAYLIGHT
TZOFFSETFROM:+0200
TZOFFSETTO:+0300
TZNAME:EEST
DTSTART:20240331T010000
END:DAYLIGHT
BEGIN:STANDARD
TZOFFSETFROM:+0300
TZOFFSETTO:+0200
TZNAME:EET
DTSTART:20241027T010000
END:STANDARD
BEGIN:DAYLIGHT
TZOFFSETFROM:+0200
TZOFFSETTO:+0300
TZNAME:EEST
DTSTART:20250330T010000
END:DAYLIGHT
BEGIN:STANDARD
TZOFFSETFROM:+0300
TZOFFSETTO:+0200
TZNAME:EET
DTSTART:20251026T010000
END:STANDARD
END:VTIMEZONE
BEGIN:VEVENT
DTSTART;VALUE=DATE:20240602
DTEND;VALUE=DATE:20240603
DTSTAMP:20260421T153053
CREATED:20240401T080003Z
LAST-MODIFIED:20240401T080048Z
UID:4447-1717286400-1717372799@mustilaviini.fi
SUMMARY:Alppiruusujen päivä
DESCRIPTION:Alppiruusujen päivä on vuosittainen Mustilan alppiruusujen ja atsaleojen (Rhododendron) pääkukintakauden alun merkkipäivä. Ohjelmassa on perinteisesti ollut ainakin opastettuja alppiruusu- ja atsaleateemaisia kierroksia\, joinain vuosina muutakin enemmän tai vähemmän päivän pääaiheeseen liittyvää toimintaa.
URL:https://mustilaviini.fi/event/alppiruusujen-paiva/
LOCATION:Arboretum Mustila\, Mustilantie 57\, Elimäki\, 47200
ATTACH;FMTTYPE=image/jpeg:https://mustilaviini.fi/wp-content/uploads/2024/04/rhododendron_yakushimanum_0.jpg
END:VEVENT
END:VCALENDAR