BEGIN:VCALENDAR
VERSION:2.0
PRODID:-//Mustila Viini - ECPv6.15.20//NONSGML v1.0//EN
CALSCALE:GREGORIAN
METHOD:PUBLISH
X-ORIGINAL-URL:https://mustilaviini.fi
X-WR-CALDESC:Tapahtumat Mustila Viini
REFRESH-INTERVAL;VALUE=DURATION:PT1H
X-Robots-Tag:noindex
X-PUBLISHED-TTL:PT1H
BEGIN:VTIMEZONE
TZID:Europe/Helsinki
BEGIN:DAYLIGHT
TZOFFSETFROM:+0200
TZOFFSETTO:+0300
TZNAME:EEST
DTSTART:20230326T010000
END:DAYLIGHT
BEGIN:STANDARD
TZOFFSETFROM:+0300
TZOFFSETTO:+0200
TZNAME:EET
DTSTART:20231029T010000
END:STANDARD
BEGIN:DAYLIGHT
TZOFFSETFROM:+0200
TZOFFSETTO:+0300
TZNAME:EEST
DTSTART:20240331T010000
END:DAYLIGHT
BEGIN:STANDARD
TZOFFSETFROM:+0300
TZOFFSETTO:+0200
TZNAME:EET
DTSTART:20241027T010000
END:STANDARD
BEGIN:DAYLIGHT
TZOFFSETFROM:+0200
TZOFFSETTO:+0300
TZNAME:EEST
DTSTART:20250330T010000
END:DAYLIGHT
BEGIN:STANDARD
TZOFFSETFROM:+0300
TZOFFSETTO:+0200
TZNAME:EET
DTSTART:20251026T010000
END:STANDARD
END:VTIMEZONE
BEGIN:VEVENT
DTSTART;TZID=Europe/Helsinki:20240824T100000
DTEND;TZID=Europe/Helsinki:20240824T150000
DTSTAMP:20260423T134255
CREATED:20240401T081428Z
LAST-MODIFIED:20240401T082554Z
UID:4452-1724493600-1724511600@mustilaviini.fi
SUMMARY:Arboretumin taimipäivät
DESCRIPTION:Kasviharrastajat ja -ammattilaiset kokoontuvat jo kymmenennelle Mustilan Taimipäivälle lauantaina 24.8.2024 klo 10.00-15.00. \nTaimipäivä Mustilassa on jo kymmenen vuoden ajan koonnut kasviharrastajat ja puutarhan ystävät yhteen kasviostosten\, luentojen ja opastettujen puistokierrosten pariin. Ammattilaiskasvattajien ohella tapahtumaan on tulossa paljon yksityisiä myyjiä harvinaisine kasviaarteineen. Paikalle odotetaan menneiden vuosien tapaan lähes tuhatta kasviharrastajaa ja ammattilaista. \nTapahtuman järjestelyihin osallistuvat Arboretum Mustila\, Arboretum Mustilan ystävät ry.\, Mustila Puutarha ja Mustila Viini. Vuoden 2024 taimipäivän osallistujaluettelo ja ohjelma julkistetaan kesällä 2024. \n  \nAikuiset 10 €\nEläkeläiset 8 €\nOpiskelijat 6 €\nLapset 0-16 v ilmainen sisäänpääsy \nPääsymaksuun sisältyy sekä taimipäivä että arboretumin sisäänpääsy.
URL:https://mustilaviini.fi/event/arboretumin-taimipaivat/
LOCATION:Arboretum Mustila\, Mustilantie 57\, Elimäki\, 47200
ATTACH;FMTTYPE=image/jpeg:https://mustilaviini.fi/wp-content/uploads/2024/04/taimitapahtuma-tunnari-lev10cm.jpg
END:VEVENT
END:VCALENDAR