BEGIN:VCALENDAR
VERSION:2.0
PRODID:-//Mustila Viini - ECPv6.15.20//NONSGML v1.0//EN
CALSCALE:GREGORIAN
METHOD:PUBLISH
X-ORIGINAL-URL:https://mustilaviini.fi
X-WR-CALDESC:Tapahtumat Mustila Viini
REFRESH-INTERVAL;VALUE=DURATION:PT1H
X-Robots-Tag:noindex
X-PUBLISHED-TTL:PT1H
BEGIN:VTIMEZONE
TZID:Europe/Helsinki
BEGIN:DAYLIGHT
TZOFFSETFROM:+0200
TZOFFSETTO:+0300
TZNAME:EEST
DTSTART:20230326T010000
END:DAYLIGHT
BEGIN:STANDARD
TZOFFSETFROM:+0300
TZOFFSETTO:+0200
TZNAME:EET
DTSTART:20231029T010000
END:STANDARD
BEGIN:DAYLIGHT
TZOFFSETFROM:+0200
TZOFFSETTO:+0300
TZNAME:EEST
DTSTART:20240331T010000
END:DAYLIGHT
BEGIN:STANDARD
TZOFFSETFROM:+0300
TZOFFSETTO:+0200
TZNAME:EET
DTSTART:20241027T010000
END:STANDARD
BEGIN:DAYLIGHT
TZOFFSETFROM:+0200
TZOFFSETTO:+0300
TZNAME:EEST
DTSTART:20250330T010000
END:DAYLIGHT
BEGIN:STANDARD
TZOFFSETFROM:+0300
TZOFFSETTO:+0200
TZNAME:EET
DTSTART:20251026T010000
END:STANDARD
END:VTIMEZONE
BEGIN:VEVENT
DTSTART;TZID=Europe/Helsinki:20241101T000000
DTEND;TZID=Europe/Helsinki:20241223T235959
DTSTAMP:20260424T005725
CREATED:20241030T100307Z
LAST-MODIFIED:20241104T090228Z
UID:4853-1730419200-1734998399@mustilaviini.fi
SUMMARY:Joulupuodin aukioloajat
DESCRIPTION:Mustila Viinin viinipuoti on Joulupuoti jälleen 1.11. alkaen. Joulupuoti palvelee to-pe-la klo 12-17 ja 7.12. alkaen ti-su sekä adventtisunnuntait klo 12-17. Tervetuloa!
URL:https://mustilaviini.fi/event/joulupuoti-aukiolot/
LOCATION:Viinipuoti\, Mustila Viini\, Mustilan Puistotie 21\, Elimäki\, 47200\, Finland
ATTACH;FMTTYPE=image/jpeg:https://mustilaviini.fi/wp-content/uploads/2024/11/Joulupuoti_2023_pun2-scaled.jpg
END:VEVENT
END:VCALENDAR