BEGIN:VCALENDAR
VERSION:2.0
PRODID:-//Mustila Viini - ECPv6.15.17.1//NONSGML v1.0//EN
CALSCALE:GREGORIAN
METHOD:PUBLISH
X-ORIGINAL-URL:https://mustilaviini.fi
X-WR-CALDESC:Tapahtumat Mustila Viini
REFRESH-INTERVAL;VALUE=DURATION:PT1H
X-Robots-Tag:noindex
X-PUBLISHED-TTL:PT1H
BEGIN:VTIMEZONE
TZID:Europe/Helsinki
BEGIN:DAYLIGHT
TZOFFSETFROM:+0200
TZOFFSETTO:+0300
TZNAME:EEST
DTSTART:20230326T010000
END:DAYLIGHT
BEGIN:STANDARD
TZOFFSETFROM:+0300
TZOFFSETTO:+0200
TZNAME:EET
DTSTART:20231029T010000
END:STANDARD
BEGIN:DAYLIGHT
TZOFFSETFROM:+0200
TZOFFSETTO:+0300
TZNAME:EEST
DTSTART:20240331T010000
END:DAYLIGHT
BEGIN:STANDARD
TZOFFSETFROM:+0300
TZOFFSETTO:+0200
TZNAME:EET
DTSTART:20241027T010000
END:STANDARD
BEGIN:DAYLIGHT
TZOFFSETFROM:+0200
TZOFFSETTO:+0300
TZNAME:EEST
DTSTART:20250330T010000
END:DAYLIGHT
BEGIN:STANDARD
TZOFFSETFROM:+0300
TZOFFSETTO:+0200
TZNAME:EET
DTSTART:20251026T010000
END:STANDARD
END:VTIMEZONE
BEGIN:VEVENT
DTSTART;TZID=Europe/Helsinki:20240706T000000
DTEND;TZID=Europe/Helsinki:20240707T235959
DTSTAMP:20260421T134914
CREATED:20240401T080820Z
LAST-MODIFIED:20240702T115430Z
UID:4450-1720224000-1720396799@mustilaviini.fi
SUMMARY:Arboretumissa Moottorisahaveiston SM-kisat
DESCRIPTION:
URL:https://mustilaviini.fi/event/arboretumissa-moottorisahaveiston-sm-kisat/
LOCATION:Arboretum Mustila\, Mustilantie 57\, Elimäki\, 47200
END:VEVENT
END:VCALENDAR